BEGIN:VCALENDAR
VERSION:2.0
PRODID:-//Living Youghal - ECPv6.15.18//NONSGML v1.0//EN
CALSCALE:GREGORIAN
METHOD:PUBLISH
X-ORIGINAL-URL:https://livingyoughal.ie
X-WR-CALDESC:Events for Living Youghal
REFRESH-INTERVAL;VALUE=DURATION:PT1H
X-Robots-Tag:noindex
X-PUBLISHED-TTL:PT1H
BEGIN:VTIMEZONE
TZID:UTC
BEGIN:STANDARD
TZOFFSETFROM:+0000
TZOFFSETTO:+0000
TZNAME:UTC
DTSTART:20250101T000000
END:STANDARD
END:VTIMEZONE
BEGIN:VEVENT
DTSTART;TZID=UTC:20260612T200000
DTEND;TZID=UTC:20260612T220000
DTSTAMP:20260420T194316
CREATED:20260107T115112Z
LAST-MODIFIED:20260420T104604Z
UID:10000121-1781294400-1781301600@livingyoughal.ie
SUMMARY:Ger O'Donnell & Trevor Sexton
DESCRIPTION:The Irish folk duo comprised of Ger O’Donnell from County Clare and Trevor Sexton from County Limerick\, has been captivating audiences for six years with their rich and diverse musical oﬀerings. Both singers and multi-instrumentalists\, O’Donnell and Sexton are known for their exceptional skill with a range of instruments including guitars\, piano\, double bass\, banjo\, whistle\, flute\, and several unique\, less conventional instruments.\nTheir innovative approach to traditional folk music has resulted in six chart-topping hits in Ireland\, solidifying their place in the contemporary folk scene.\nTheir extensive touring across Europe and the US has further cemented their reputation as a dynamic and versatile act. Trasna’s live tours are celebrated for their energetic and heartfelt delivery\, seamlessly blending traditional Irish melodies with a fresh\, modern twist. The duo’s ability to traverse diverse musical landscapes while maintaining their folk roots has garnered them a dedicated fan base and critical acclaim\, making them one of the most exciting acts in the folk genre today.
URL:https://livingyoughal.ie/event/ger-odonnell-trevor-sexton/
LOCATION:The Mall Arts Centre\, Mall House\, Youghal\, Co. Cork\, P36 A660\, Ireland
CATEGORIES:Concerts
ATTACH;FMTTYPE=image/jpeg:https://livingyoughal.ie/wp-content/uploads/2025/03/Trasna@0.75x.jpg
END:VEVENT
BEGIN:VEVENT
DTSTART;TZID=UTC:20260822T000000
DTEND;TZID=UTC:20260822T000000
DTSTAMP:20260420T194316
CREATED:20260414T133747Z
LAST-MODIFIED:20260420T104604Z
UID:10000140-1787356800-1787356800@livingyoughal.ie
SUMMARY:James Nelson - Singing for his Supper
DESCRIPTION:In James Nelson’s first solo show\, hear his ‘up close and personal’ take on life – on the road and at home – with a selection of songs to warm the heart.\nThe Sligo tenor has criss-crossed the world for over 30 years – performing in opera\, concerts and as one third of the international crossover group ‘The Celtic Tenors’. Others may know James from “Nelson’s Column” in the ‘Sligo Weekender’.
URL:https://livingyoughal.ie/event/james-nelson-singing-for-his-supper/
LOCATION:The Mall Arts Centre\, Mall House\, Youghal\, Co. Cork\, P36 A660\, Ireland
CATEGORIES:Concerts
ATTACH;FMTTYPE=image/webp:https://livingyoughal.ie/wp-content/uploads/2026/04/James-Nelson-scaled.webp
END:VEVENT
BEGIN:VEVENT
DTSTART;TZID=UTC:20260919T000000
DTEND;TZID=UTC:20260919T000000
DTSTAMP:20260420T194316
CREATED:20260402T115133Z
LAST-MODIFIED:20260420T104604Z
UID:10000141-1789776000-1789776000@livingyoughal.ie
SUMMARY:Chris Kent - That's All I Need Now!
DESCRIPTION:Second Date Added – This event is SOLD OUT but we have Chris back on Sunday 20th September too. – Tickets 🎟️ \nChris Kent is back with a brand new show packed with his signature laid-back storytelling and brilliantly relatable observations. \nBetween kids’ activities taking over the calendar\, the modern world diagnosing absolutely everything\, and the small realities of getting older creeping in\, Chris is doing his best to stay one step ahead of life. Meanwhile\, the bamboo in the garden is quietly threatening to reclaim the house he spent years trying to buy. \nChris finds huge laughs in the everyday chaos of modern life.
URL:https://livingyoughal.ie/event/chris-kent-thats-all-i-need-now/
LOCATION:The Mall Arts Centre\, Mall House\, Youghal\, Co. Cork\, P36 A660\, Ireland
CATEGORIES:Comedy
ATTACH;FMTTYPE=image/webp:https://livingyoughal.ie/wp-content/uploads/2026/04/Chris-Kent-Youghal-ND.webp
END:VEVENT
BEGIN:VEVENT
DTSTART;TZID=UTC:20260920T200000
DTEND;TZID=UTC:20260920T220000
DTSTAMP:20260420T194316
CREATED:20260417T102502Z
LAST-MODIFIED:20260420T104604Z
UID:10000143-1789934400-1789941600@livingyoughal.ie
SUMMARY:Chris Kent - That's All I Need Now!
DESCRIPTION:Chris Kent is back with a brand new show packed with his signature laid-back storytelling and brilliantly relatable observations. \nBetween kids’ activities taking over the calendar\, the modern world diagnosing absolutely everything\, and the small realities of getting older creeping in\, Chris is doing his best to stay one step ahead of life. Meanwhile\, the bamboo in the garden is quietly threatening to reclaim the house he spent years trying to buy. \nChris finds huge laughs in the everyday chaos of modern life.
URL:https://livingyoughal.ie/event/chris-kent-thats-all-i-need-now-2/
LOCATION:The Mall Arts Centre\, Mall House\, Youghal\, Co. Cork\, P36 A660\, Ireland
CATEGORIES:Comedy
ATTACH;FMTTYPE=image/webp:https://livingyoughal.ie/wp-content/uploads/2026/04/Chris-Kent-Youghal20.webp
END:VEVENT
END:VCALENDAR